BEGIN:VCALENDAR
VERSION:2.0
PRODID:-//Casaeventi by Saragiò - ECPv6.15.20//NONSGML v1.0//EN
CALSCALE:GREGORIAN
METHOD:PUBLISH
X-WR-CALNAME:Casaeventi by Saragiò
X-ORIGINAL-URL:https://casaeventi.it
X-WR-CALDESC:Eventi per Casaeventi by Saragiò
REFRESH-INTERVAL;VALUE=DURATION:PT1H
X-Robots-Tag:noindex
X-PUBLISHED-TTL:PT1H
BEGIN:VTIMEZONE
TZID:Europe/Rome
BEGIN:DAYLIGHT
TZOFFSETFROM:+0100
TZOFFSETTO:+0200
TZNAME:CEST
DTSTART:20250330T010000
END:DAYLIGHT
BEGIN:STANDARD
TZOFFSETFROM:+0200
TZOFFSETTO:+0100
TZNAME:CET
DTSTART:20251026T010000
END:STANDARD
BEGIN:DAYLIGHT
TZOFFSETFROM:+0100
TZOFFSETTO:+0200
TZNAME:CEST
DTSTART:20260329T010000
END:DAYLIGHT
BEGIN:STANDARD
TZOFFSETFROM:+0200
TZOFFSETTO:+0100
TZNAME:CET
DTSTART:20261025T010000
END:STANDARD
BEGIN:DAYLIGHT
TZOFFSETFROM:+0100
TZOFFSETTO:+0200
TZNAME:CEST
DTSTART:20270328T010000
END:DAYLIGHT
BEGIN:STANDARD
TZOFFSETFROM:+0200
TZOFFSETTO:+0100
TZNAME:CET
DTSTART:20271031T010000
END:STANDARD
END:VTIMEZONE
BEGIN:VEVENT
DTSTART;TZID=Europe/Rome:20260308T150000
DTEND;TZID=Europe/Rome:20260308T180000
DTSTAMP:20260420T080359
CREATED:20260215T092124Z
LAST-MODIFIED:20260302T074431Z
UID:10000055-1772982000-1772992800@casaeventi.it
SUMMARY:Trucco Over 50
DESCRIPTION:/ 08.03\nOpen Class\nTrucco Over 50\nUn pomeriggio dedicato alla bellezza\n\nIn concomitanza con la Festa della Donna\, CASAEVENTI propone un’esperienza speciale tutta al femminile: una open class di trucco over 50\, pensata per imparare a valorizzarsi con eleganza\, semplicità e consapevolezza. \nUn pomeriggio intimo e curato\, dedicato a donne che desiderano sentirsi bene davanti allo specchio\, aggiornare il proprio modo di truccarsi e concedersi un momento di cura e condivisione. \nCome si svolge \nDurante l’open class\, la make-up artist professionista Alessandra realizzerà un trucco completo su una modella\, spiegando passo dopo passo le tecniche più adatte alla pelle matura e ai tratti del viso over 50. \nSi parlerà di: \npreparazione della pelle \nscelta dei prodotti e delle texture giuste \ncome illuminare il viso senza appesantirlo \nvalorizzare lo sguardo in modo naturale \nlabbra\, colori e proporzioni \npiccoli accorgimenti per un make-up quotidiano elegante \nUn approccio pratico\, chiaro e replicabile a casa\, con spazio per domande e confronto. \nAl termine\, un aperitivo a tema e l’occasione di trascorrere del tempo insieme per creare nuove amicizie. \n  \n \n \n\n\n\n\n\n\n\n\n\n\n\n\n\n\n\n  \nProgramma\nDURATA: 3 ore \nDOMENICA 08 MARZO 2026 dalle 15.00 alle 18.00 \n15\,00 – 17.30 circa – Open Class di trucco Over 50 (minimo 10-massimo 15 partecipanti) \n18 – 19\,00 circa Aperitivo a tema\, musica di sottofondo\, chiacchiere tra donne e saluti \nCosa comprende\npartecipazione all’open class \naperitivo finale \nbeauty bag in omaggio con prodotti SENSAI \nbuono sconto spendibile in profumeria \nscheda appunti personalizzata \nDurante la sessione verranno utilizzati i prodotti della linea giapponese di cosmetici SENSAI. \nA chi è dedicato\ndonne over 50 \nnessuna esperienza richiesta \na chi ama la bellezza naturale\, senza eccessi \na chi desidera migliorare le proprie competenze sul trucco quotodiano e condividere un momento diverso dal solito \nPerchè partecipare\nPerché la bellezza non ha età.\nPerché prendersi del tempo per sé è un gesto di cura.\nPerché avere l’occasione di incontrare nuove persone e fare nuove amicizie rende il tutto più bello. \nLocation\nCasaeventi \nUno spazio di design nel cuore di Varese\, pensato per accogliere esperienze intime\, curate e di qualità. \nVia Giuseppe Bernascone\, 19\nVarese \nInformazioni\nDOMENICA 08 MARZO 2026  \nCosto a persona: € 70 (minimo 10-massimo 15 partecipanti) \n(Open class + aperitivo)\nEvento realizzato la gentile collaborazione di SENSAI COSMETIC ITALIA e Profumerie LIVELY MILANO \n  \nPosti limitati – prenotazione obbligatoria. \nt.+39 0332 1880549\nm.+39 338 5417177 \ninfo@casaeventi.it \n Regala questo evento
URL:https://casaeventi.it/evento/trucco-over-50/
LOCATION:Casaeventi\, Via Giuseppe Bernascone\, 19\, Varese\, VA\, 21100\, Italy
CATEGORIES:experience
ATTACH;FMTTYPE=image/png:https://casaeventi.it/wp-content/uploads/954ed8c8-0ddf-4674-a217-10d810894192.png
END:VEVENT
BEGIN:VEVENT
DTSTART;TZID=Europe/Rome:20260321T100000
DTEND;TZID=Europe/Rome:20260321T123000
DTSTAMP:20260420T080359
CREATED:20250217T161046Z
LAST-MODIFIED:20260223T133252Z
UID:10000043-1774087200-1774096200@casaeventi.it
SUMMARY:Gioielli e piccoli accessori floreali
DESCRIPTION:21/03\nGioielli e piccoli accessori floreali\nDalla passione di Saragiò per i fiori\, gli eventi e il design dei gioielli è nato il progetto di questo workshop destinato agli appassionati della creatività e delle piccole composizioni floreali. Non occorrono basi e nozioni per la gestione del fiore e durante il corso verranno spiegate diverse tecniche di realizzo. \nCome si svolge. Durante la Masterclass verranno fornite le principali indicazioni per la scelta dei fiori e materiali più indicati ai differenti piccoli gioielli o accessori\, tecniche di lavorazione e conservazione e soprattutto analisi stilistica e studio del progetto creativo. \nVerranno presi in esame e realizzati 3 semplici progetti creativi fra orecchini\, braccialetto\, collanina. \nIl costo comprende i materiali necessari per la realizzazione del gioiellino floreale scelto che\, naturalmente\, resterà al partecipante che lo ha realizzato. \nSARAGIO’ CARLETTI\n \nTitolare di Saragiò Design\, Table Stylist\, Docente di Workshop creativi e Masterclass professionali e amatoriali in materia di decorazione\, arte e scenografia della Tavola. \nWedding and Event Designer di successo\, direttore artistico di prestigiose manifestazioni dedicate alle eccellenze del mondo della cerimonia e all’arte del ricevere\, ha svolto attività di editore e giornalista. \nFounder e designer di brand artigianali di gioielli\, impegnata in progetti creativi e professionali\, Saragiò è titolare di Casaeventi nonché fondatrice del contenitori di Masterclass\, corsi e workshop “Casaeventi Sensorial Experience”. \n 
URL:https://casaeventi.it/evento/gioielli-e-piccoli-accessori-floreali-2/
LOCATION:Casaeventi\, Via Giuseppe Bernascone\, 19\, Varese\, VA\, 21100\, Italy
CATEGORIES:experience
ATTACH;FMTTYPE=image/jpeg:https://casaeventi.it/wp-content/uploads/tavola-dellamore-.jpg
END:VEVENT
BEGIN:VEVENT
DTSTART;TZID=Europe/Rome:20260321T150000
DTEND;TZID=Europe/Rome:20260321T173000
DTSTAMP:20260420T080359
CREATED:20260223T124431Z
LAST-MODIFIED:20260223T132842Z
UID:10000060-1774105200-1774114200@casaeventi.it
SUMMARY:Gioielli e piccoli accessori floreali
DESCRIPTION:21/03\nGioielli e piccoli accessori floreali\nDalla passione di Saragiò per i fiori\, gli eventi e il design dei gioielli è nato il progetto di questo workshop destinato agli appassionati della creatività e delle piccole composizioni floreali. Non occorrono basi e nozioni per la gestione del fiore e durante il corso verranno spiegate diverse tecniche di realizzo. \nCome si svolge. Durante la Masterclass verranno fornite le principali indicazioni per la scelta dei fiori e materiali più indicati ai differenti piccoli gioielli o accessori\, tecniche di lavorazione e conservazione e soprattutto analisi stilistica e studio del progetto creativo. \nVerranno presi in esame e realizzati 3 semplici progetti creativi fra orecchini\, braccialetto\, collanina. \nIl costo comprende i materiali necessari per la realizzazione del gioiellino floreale scelto che\, naturalmente\, resterà al partecipante che lo ha realizzato. \nSARAGIO’ CARLETTI\n \nTitolare di Saragiò Design\, Table Stylist\, Docente di Workshop creativi e Masterclass professionali e amatoriali in materia di decorazione\, arte e scenografia della Tavola. \nWedding and Event Designer di successo\, direttore artistico di prestigiose manifestazioni dedicate alle eccellenze del mondo della cerimonia e all’arte del ricevere\, ha svolto attività di editore e giornalista. \nFounder e designer di brand artigianali di gioielli\, impegnata in progetti creativi e professionali\, Saragiò è titolare di Casaeventi nonché fondatrice del contenitori di Masterclass\, corsi e workshop “Casaeventi Sensorial Experience”.
URL:https://casaeventi.it/evento/gioielli-e-piccoli-accessori-floreali-3/
LOCATION:Casaeventi\, Via Giuseppe Bernascone\, 19\, Varese\, VA\, 21100\, Italy
CATEGORIES:experience
ATTACH;FMTTYPE=image/jpeg:https://casaeventi.it/wp-content/uploads/tavola-dellamore-.jpg
END:VEVENT
BEGIN:VEVENT
DTSTART;TZID=Europe/Rome:20260328T100000
DTEND;TZID=Europe/Rome:20260328T123000
DTSTAMP:20260420T080359
CREATED:20260223T131543Z
LAST-MODIFIED:20260302T074926Z
UID:10000061-1774692000-1774701000@casaeventi.it
SUMMARY:La Tavola Creativa
DESCRIPTION:/28.03\nMasterclass\nLa Tavola Creativa\nScenografia della Tavola di Primavera e di Pasqua\n\nDedicato agli appassionati\, agli amanti dell’arte del ricevere e a coloro che\, a titolo personale\, desiderano approfondire\, stimolare e assimilare piccole competenze teoriche e pratiche legate all’ allestimento e alla scenografia della tavola. Una Masterclass con l’obiettivo di fornire ai partecipanti una serie di nozioni fondamentali applicate in concreto nella realizzazione di progetti di decorazione e Table Design che possano essere utilizzati nella vita di tutti i giorni o in progetti speciali. \nCome si svolge \nNozioni di base e analisi dei differenti stili di scenografia con esempi di impostazione della tavola per le occasioni familiari e quelle più formali o speciali. Studio base dei colori\, forme e materiali diversi\, utili per la mise en place\, la scenografia e la decorazione. Esempi e idee pratiche con dimostrazione ed allestimento di 2 tavole a tema. \nPresentazione e visione di alcuni materiali e testi utili per la formazione e l’ispirazione in materia. Suggerimenti individuali\, consigli pratici e chiusura.  \n  \nSARA GIOVANNA CARLETTI in arte SARAGIO’\n \nTitolare di Saragiò Design\, Table Stylist\, Docente di Workshop creativi e Masterclass professionali e amatoriali in materia di decorazione\, arte e scenografia della Tavola. \nWedding and Event Designer di successo\, direttore artistico di prestigiose manifestazioni dedicate alle eccellenze del mondo della cerimonia e all’arte del ricevere\, ha svolto attività di editore e giornalista. \nFounder e designer di brand artigianali di gioielli\, impegnata in progetti creativi e professionali\, Saragiò è titolare di Casaeventi nonché fondatrice del contenitori di Masterclass\, corsi e workshop “Casaeventi Sensorial Experience”. \nProgramma\nDURATA: 2\,5 ore  \nSABATO 28 MARZO dalle 10.00 alle 12.30 \nLocation\nCasaeventi \nVia Giuseppe Bernascone\, 19\nVarese \nInformazioni\nSABATO 28 MARZO 2026  Iscrizioni entro Venerdì 20 Marzo \nCosto a persona: € 55 (minimo 6/ massimo 12 partecipanti) \nt.+39 0332 1880549\nm.+39 338 5417177 \ninfo@casaeventi.it \n Regala questo evento
URL:https://casaeventi.it/evento/la-tavola-creativa/
LOCATION:Casaeventi\, Via Giuseppe Bernascone\, 19\, Varese\, VA\, 21100\, Italy
CATEGORIES:experience
ATTACH;FMTTYPE=image/jpeg:https://casaeventi.it/wp-content/uploads/sgalateo-1.jpg
END:VEVENT
BEGIN:VEVENT
DTSTART;TZID=Europe/Rome:20260328T150000
DTEND;TZID=Europe/Rome:20260328T173000
DTSTAMP:20260420T080359
CREATED:20260223T132206Z
LAST-MODIFIED:20260223T132206Z
UID:10000062-1774710000-1774719000@casaeventi.it
SUMMARY:La Tavola Creativa
DESCRIPTION:/28.03\nMasterclass\nLa Tavola Creativa\nScenografia della Tavola di Primavera e di Pasqua\n\nDedicato agli appassionati\, agli amanti dell’arte del ricevere e a coloro che\, a titolo personale\, desiderano approfondire\, stimolare e assimilare piccole competenze teoriche e pratiche legate all’ allestimento e alla scenografia della tavola. Una Masterclass con l’obiettivo di fornire ai partecipanti una serie di nozioni fondamentali applicate in concreto nella realizzazione di progetti di decorazione e Table Design che possano essere utilizzati nella vita di tutti i giorni o in progetti speciali. \nCome si svolge \nNozioni di base e analisi dei differenti stili di scenografia con esempi di impostazione della tavola per le occasioni familiari e quelle più formali o speciali. Studio base dei colori\, forme e materiali diversi\, utili per la mise en place\, la scenografia e la decorazione. Esempi e idee pratiche con dimostrazione ed allestimento di 2 tavole a tema. \nPresentazione e visione di alcuni materiali e testi utili per la formazione e l’ispirazione in materia. Suggerimenti individuali\, consigli pratici e chiusura.  \n  \nSARA GIOVANNA CARLETTI in arte SARAGIO’\n \nTitolare di Saragiò Design\, Table Stylist\, Docente di Workshop creativi e Masterclass professionali e amatoriali in materia di decorazione\, arte e scenografia della Tavola. \nWedding and Event Designer di successo\, direttore artistico di prestigiose manifestazioni dedicate alle eccellenze del mondo della cerimonia e all’arte del ricevere\, ha svolto attività di editore e giornalista. \nFounder e designer di brand artigianali di gioielli\, impegnata in progetti creativi e professionali\, Saragiò è titolare di Casaeventi nonché fondatrice del contenitori di Masterclass\, corsi e workshop “Casaeventi Sensorial Experience”. \nProgramma\nDURATA: 2\,5 ore  \nSABATO 28 MARZO dalle 15.00 alle 17.30 \nLocation\nCasaeventi \nVia Giuseppe Bernascone\, 19\nVarese \nInformazioni\nSABATO 28 MARZO 2026  Iscrizioni entro Venerdì 20 Marzo \nCosto a persona: € 55 (minimo 6/ massimo 12 partecipanti) \nt.+39 0332 1880549\nm.+39 338 5417177 \ninfo@casaeventi.it \n Regala questo evento
URL:https://casaeventi.it/evento/la-tavola-creativa-2/
LOCATION:Casaeventi\, Via Giuseppe Bernascone\, 19\, Varese\, VA\, 21100\, Italy
CATEGORIES:experience
ATTACH;FMTTYPE=image/jpeg:https://casaeventi.it/wp-content/uploads/sgalateo-1.jpg
END:VEVENT
END:VCALENDAR