BEGIN:VCALENDAR
VERSION:2.0
PRODID:-//Casaeventi by Saragiò - ECPv6.15.20//NONSGML v1.0//EN
CALSCALE:GREGORIAN
METHOD:PUBLISH
X-ORIGINAL-URL:https://casaeventi.it
X-WR-CALDESC:Eventi per Casaeventi by Saragiò
REFRESH-INTERVAL;VALUE=DURATION:PT1H
X-Robots-Tag:noindex
X-PUBLISHED-TTL:PT1H
BEGIN:VTIMEZONE
TZID:Europe/Rome
BEGIN:DAYLIGHT
TZOFFSETFROM:+0100
TZOFFSETTO:+0200
TZNAME:CEST
DTSTART:20230326T010000
END:DAYLIGHT
BEGIN:STANDARD
TZOFFSETFROM:+0200
TZOFFSETTO:+0100
TZNAME:CET
DTSTART:20231029T010000
END:STANDARD
BEGIN:DAYLIGHT
TZOFFSETFROM:+0100
TZOFFSETTO:+0200
TZNAME:CEST
DTSTART:20240331T010000
END:DAYLIGHT
BEGIN:STANDARD
TZOFFSETFROM:+0200
TZOFFSETTO:+0100
TZNAME:CET
DTSTART:20241027T010000
END:STANDARD
BEGIN:DAYLIGHT
TZOFFSETFROM:+0100
TZOFFSETTO:+0200
TZNAME:CEST
DTSTART:20250330T010000
END:DAYLIGHT
BEGIN:STANDARD
TZOFFSETFROM:+0200
TZOFFSETTO:+0100
TZNAME:CET
DTSTART:20251026T010000
END:STANDARD
BEGIN:DAYLIGHT
TZOFFSETFROM:+0100
TZOFFSETTO:+0200
TZNAME:CEST
DTSTART:20260329T010000
END:DAYLIGHT
BEGIN:STANDARD
TZOFFSETFROM:+0200
TZOFFSETTO:+0100
TZNAME:CET
DTSTART:20261025T010000
END:STANDARD
END:VTIMEZONE
BEGIN:VEVENT
DTSTART;TZID=Europe/Rome:20250131T180000
DTEND;TZID=Europe/Rome:20250131T230000
DTSTAMP:20260420T171001
CREATED:20241129T135714Z
LAST-MODIFIED:20250206T144819Z
UID:10000017-1738346400-1738364400@casaeventi.it
SUMMARY:The '20s Magic Party
DESCRIPTION:Casaeventi è lieta di presentare uno fra i più esclusivi eventi dell’anno ambientato nelle magiche atmosfere degli anni ’20 che propone eleganza\, musica travolgente e un’atmosfera retrò unica e sofisticata che ammalierà tutti gli ospiti.\nCon l’esclusiva partecipazione di Cosimo and the Hot Coals\,  la jazz band italiana di fama mondiale che proporrà un repertorio di musica dal vivo spaziando dalla tradizione di New Orleans e dell’Hot Jazz allo Swing degli anni ’20 e ’30\, la serata vedrà la nostra fascinosa location immersa in un’ambientazione ispirata ai ruggenti anni ’20. \nL’Experience\nUna spumeggiante serata che prevede\, oltre al concerto dei Cosimo and the Hot Coals\,  Cena a Buffet e Appetizer a passaggio\, Open Bar in stile\,  Sweet Corner\, Musica\, Balli\, Sorprese e Decori a tema; non obbligatorio ma gradito un dress code in linea con l’evento. \nLa Musica\nIl cuore pulsante dell’evento sarà\, appunto\, la musica dal vivo di Cosimo and the Hot Coals\, la jazz band italiana composta da 6 Gentlemen che farà scatenare\, in un concerto live di un’ora e mezza\, i privilegiati ospiti che prenderanno parte all’Experience. \nNon perdere l’occasione\nL’evento potrà accogliere fino a un massimo di 70 partecipanti perciò\, per vivere questa entusiasmante esperienza\, acquista al più presto il tuo Ticket e preparati a un viaggio emozionale fra glamour\, eleganza\, atmosfera e musica indimenticabile. Il sogno degli anni ’20 ti aspetta.
URL:https://casaeventi.it/evento/the-20s-magic-party/
LOCATION:Casaeventi\, Via Giuseppe Bernascone\, 19\, Varese\, VA\, 21100\, Italy
CATEGORIES:eventi
ATTACH;FMTTYPE=image/jpeg:https://casaeventi.it/wp-content/uploads/cosimo2-1.jpg
END:VEVENT
BEGIN:VEVENT
DTSTART;TZID=Europe/Rome:20241215T110000
DTEND;TZID=Europe/Rome:20241215T200000
DTSTAMP:20260420T171001
CREATED:20241127T162928Z
LAST-MODIFIED:20241211T082924Z
UID:10000014-1734260400-1734292800@casaeventi.it
SUMMARY:Christmas in town
DESCRIPTION:Nel cuore di Varese\, un evento dedicato alle festività Natalizie con l’occasione di incontrare nuove e selezionate realtà artistico-artigianali in uno spazio intimo e raccolto dove ambientare eventi esclusivi in un’atmosfera unica\, calda e accogliente.\nChristmas in Town presenta una selezione di attività di qualità\, individuando proposte originali e ricercate per uno shopping di Natale diverso e coinvolgente\, in un entusiasmante percorso di scoperta attraverso piccoli angoli espositivi che abitano\, per l’occasione\, le 4 sale della Location.
URL:https://casaeventi.it/evento/christmas-in-town/
LOCATION:Casaeventi\, Via Giuseppe Bernascone\, 19\, Varese\, VA\, 21100\, Italy
CATEGORIES:eventi
ATTACH;FMTTYPE=image/jpeg:https://casaeventi.it/wp-content/uploads/acc70408-98c0-4764-ba07-46ac375cb0fe.jpg
END:VEVENT
END:VCALENDAR